BEGIN:VCALENDAR
VERSION:2.0
PRODID:-//https://sv-burgrieden.de///NONSGML kigkonsult.se iCalcreator 2.10.15//
METHOD:PUBLISH
BEGIN:VEVENT
UID:20260420T120927CEST-1235A9lexa@https://sv-burgrieden.de/
DTSTAMP:20260420T100927Z
DESCRIPTION:
DTSTART:20260725T000000Z
LOCATION:Rottalstüble\, Burgrieden (Fesselweg 10\, 88483 Burgrieden\, Deuts
 chland)
SUMMARY:Private Veranstaltung
END:VEVENT
END:VCALENDAR
