BEGIN:VCALENDAR
VERSION:2.0
PRODID:-//https://sv-burgrieden.de///NONSGML kigkonsult.se iCalcreator 2.10.15//
METHOD:PUBLISH
BEGIN:VEVENT
UID:20260420T121557CEST-6874PNENSj@https://sv-burgrieden.de/
DTSTAMP:20260420T101557Z
DESCRIPTION:
DTSTART:20260502T000000Z
LOCATION:Rottalhalle\, Burgrieden (Fesselweg 10\, 88483 Burgrieden\, Deutsc
 hland)
SUMMARY:priv. Veranstaltung
END:VEVENT
END:VCALENDAR
