BEGIN:VCALENDAR
VERSION:2.0
PRODID:-//https://sv-burgrieden.de///NONSGML kigkonsult.se iCalcreator 2.10.15//
METHOD:PUBLISH
BEGIN:VEVENT
UID:20260422T122527CEST-4799CufjWr@https://sv-burgrieden.de/
DTSTAMP:20260422T102527Z
DESCRIPTION:
DTSTART:20260604T000000Z
LOCATION:Rottalhalle\, Burgrieden (Fesselweg 10\, 88483 Burgrieden\, Deutsc
 hland)
SUMMARY:Gartenfest MV Burgrieden
END:VEVENT
END:VCALENDAR
