BEGIN:VCALENDAR
VERSION:2.0
PRODID:-//https://sv-burgrieden.de///NONSGML kigkonsult.se iCalcreator 2.10.15//
METHOD:PUBLISH
BEGIN:VEVENT
UID:20260420T131325CEST-8574d0jOsl@https://sv-burgrieden.de/
DTSTAMP:20260420T111325Z
DESCRIPTION:
DTSTART:20260711T000000Z
LOCATION:Rottalhalle\, Burgrieden (Fesselweg 10\, 88483 Burgrieden\, Deutsc
 hland)
SUMMARY:Sommerfest KiGa
END:VEVENT
END:VCALENDAR
