BEGIN:VCALENDAR
VERSION:2.0
PRODID:-//https://sv-burgrieden.de///NONSGML kigkonsult.se iCalcreator 2.10.15//
METHOD:PUBLISH
BEGIN:VEVENT
UID:20260420T114806CEST-8547BjLUPk@https://sv-burgrieden.de/
DTSTAMP:20260420T094806Z
DESCRIPTION:
DTSTART:20260427T000000Z
LOCATION:Rottalstüble\, Burgrieden (Fesselweg 10\, 88483 Burgrieden\, Deuts
 chland)
SUMMARY:Private Veranstaltung
END:VEVENT
END:VCALENDAR
